BEGIN:VCALENDAR
VERSION:2.0
PRODID:-//JEF Steiermark - ECPv6.15.15//NONSGML v1.0//EN
CALSCALE:GREGORIAN
METHOD:PUBLISH
X-ORIGINAL-URL:https://jef-steiermark.at
X-WR-CALDESC:Veranstaltungen für JEF Steiermark
REFRESH-INTERVAL;VALUE=DURATION:PT1H
X-Robots-Tag:noindex
X-PUBLISHED-TTL:PT1H
BEGIN:VTIMEZONE
TZID:Europe/Berlin
BEGIN:DAYLIGHT
TZOFFSETFROM:+0100
TZOFFSETTO:+0200
TZNAME:CEST
DTSTART:20240331T010000
END:DAYLIGHT
BEGIN:STANDARD
TZOFFSETFROM:+0200
TZOFFSETTO:+0100
TZNAME:CET
DTSTART:20241027T010000
END:STANDARD
BEGIN:DAYLIGHT
TZOFFSETFROM:+0100
TZOFFSETTO:+0200
TZNAME:CEST
DTSTART:20250330T010000
END:DAYLIGHT
BEGIN:STANDARD
TZOFFSETFROM:+0200
TZOFFSETTO:+0100
TZNAME:CET
DTSTART:20251026T010000
END:STANDARD
BEGIN:DAYLIGHT
TZOFFSETFROM:+0100
TZOFFSETTO:+0200
TZNAME:CEST
DTSTART:20260329T010000
END:DAYLIGHT
BEGIN:STANDARD
TZOFFSETFROM:+0200
TZOFFSETTO:+0100
TZNAME:CET
DTSTART:20261025T010000
END:STANDARD
END:VTIMEZONE
BEGIN:VEVENT
DTSTART;TZID=Europe/Berlin:20251201T190000
DTEND;TZID=Europe/Berlin:20251201T210000
DTSTAMP:20260423T013839
CREATED:20250105T204122Z
LAST-MODIFIED:20260110T093834Z
UID:5357-1764615600-1764622800@jef-steiermark.at
SUMMARY:European Monday
DESCRIPTION:Gute Gespräche in guter Gesellschaft! \nMonatlich treffen sich Mitglieder und Interessierte am „European Monday“ zum Europa-Stammtisch in Graz. In einem Pub\, im Park oder im JEF Büro wird über aktuelle (europa-)politischen Fragestellungen diskutiert. Die monatlichen Stammtische bieten eine gute Chance unseren Verein und überzeugte junge Europäerinnen und Europäer kennenzulernen. Bei kühlen Getränken und anregenden Gesprächen ist jede und jeder willkommen. Wir freuen uns über Anmeldungen an office@jef-steiermark.at oder schreibe uns auf Instagram (@jef_steiermark). \nDieses Projekt wird vom Land Steiermark und im Rahmen von Erasmus+ finanziell unterstützt. \n \n \n 
URL:https://jef-steiermark.at/event/em-12-2025/
LOCATION:eleven – Café-Bar-Restaurant\, Kaiserfeldgasse 13\, Graz\, 8010
ATTACH;FMTTYPE=image/jpeg:https://jef-steiermark.at/wp-content/uploads/2023/12/20231205_European-Monday-2-scaled.jpg
END:VEVENT
BEGIN:VEVENT
DTSTART;VALUE=DATE:20251206
DTEND;VALUE=DATE:20251215
DTSTAMP:20260423T013839
CREATED:20251004T184607Z
LAST-MODIFIED:20251004T190024Z
UID:5760-1764979200-1765756799@jef-steiermark.at
SUMMARY:Pattern Breaker – Erasmus+ Training Course
DESCRIPTION:Du bist in der Jugendarbeit aktiv – aber merkst\, dass du oft zu denselben Methoden\, Energizern oder Organisationsmustern greifst? Dann ist der Trainingskurs Pattern Breaker genau für dich gemacht! \nWorum geht’s?\nIn diesem 7-tägigen Erasmus+ Training hinterfragen wir Gewohnheiten in der Jugendarbeit und probieren neue Ansätze aus. Anstatt einfach mit Aktivitäten loszulegen\, überlegen wir zuerst\, welches Ziel wir erreichen wollen – und entwickeln dann Methoden\, die wirklich etwas bewirken. Dich erwartet: \n\nReflexion der eigenen Kommunikations- & Moderationsmuster\nkritische Auseinandersetzung mit alten Jugendwork-Praktiken\ngemeinsames Entwickeln frischer\, innovativer Methoden\npraktische Experimente im Non-Formal Education Lab\nAustausch mit engagierten Jugendarbeitern aus ganz Europa\n\nAm Ende gehst du mit neuen Tools\, einem kritischen Blick und jeder Menge Inspiration nach Hause – bereit\, deine Jugendarbeit bewusster\, wirkungsvoller und nachhaltiger zu gestalten? \nUnterkunft & Kosten\nDas Training findet in Zamárdi am Balaton (110 km von Budapest) statt. Du wohnst in einer gemütlichen Unterkunft in 2–3 Bett-Zimmern\, mit Vollverpflegung und einem kleinen Wellnessbereich. Die Kosten für Unterkunft\, Verpflegung und An- und Abreise werden von Erasmus+ übernommen. \nAlle Informationen findest du hier im Infopack. Du kannst dich über das folgende ONLINE FORMULAR bewerben. Bewerbungsschluss ist der 12. Oktober 2025. \nDieses Projekt wird durch das Erasmus+ Programm der Europäischen Union kofinanziert. \n 
URL:https://jef-steiermark.at/event/pattern-breaker-erasmus-training-course/
LOCATION:Zamárdi\, Hungary
ATTACH;FMTTYPE=image/jpeg:https://jef-steiermark.at/wp-content/uploads/2025/10/lake-balaton-1711867_1920.jpg
END:VEVENT
END:VCALENDAR