BEGIN:VCALENDAR
VERSION:2.0
PRODID:-//JEF Steiermark - ECPv6.15.15//NONSGML v1.0//EN
CALSCALE:GREGORIAN
METHOD:PUBLISH
X-WR-CALNAME:JEF Steiermark
X-ORIGINAL-URL:https://jef-steiermark.at
X-WR-CALDESC:Veranstaltungen für JEF Steiermark
REFRESH-INTERVAL;VALUE=DURATION:PT1H
X-Robots-Tag:noindex
X-PUBLISHED-TTL:PT1H
BEGIN:VTIMEZONE
TZID:Europe/Berlin
BEGIN:DAYLIGHT
TZOFFSETFROM:+0100
TZOFFSETTO:+0200
TZNAME:CEST
DTSTART:20250330T010000
END:DAYLIGHT
BEGIN:STANDARD
TZOFFSETFROM:+0200
TZOFFSETTO:+0100
TZNAME:CET
DTSTART:20251026T010000
END:STANDARD
BEGIN:DAYLIGHT
TZOFFSETFROM:+0100
TZOFFSETTO:+0200
TZNAME:CEST
DTSTART:20260329T010000
END:DAYLIGHT
BEGIN:STANDARD
TZOFFSETFROM:+0200
TZOFFSETTO:+0100
TZNAME:CET
DTSTART:20261025T010000
END:STANDARD
BEGIN:DAYLIGHT
TZOFFSETFROM:+0100
TZOFFSETTO:+0200
TZNAME:CEST
DTSTART:20270328T010000
END:DAYLIGHT
BEGIN:STANDARD
TZOFFSETFROM:+0200
TZOFFSETTO:+0100
TZNAME:CET
DTSTART:20271031T010000
END:STANDARD
END:VTIMEZONE
BEGIN:VEVENT
DTSTART;TZID=Europe/Berlin:20260302T190000
DTEND;TZID=Europe/Berlin:20260302T210000
DTSTAMP:20260422T212150
CREATED:20260105T205329Z
LAST-MODIFIED:20260110T093822Z
UID:5975-1772478000-1772485200@jef-steiermark.at
SUMMARY:European Monday
DESCRIPTION:Gute Gespräche in guter Gesellschaft! \nMonatlich treffen sich Mitglieder und Interessierte am „European Monday“ zum Europa-Stammtisch in Graz. In einem Pub\, im Park oder im JEF Büro wird – meist mit Expert:innen oder politischen Entscheidungsträger:innen – über aktuelle (europa-)politischen Fragestellungen diskutiert. Die monatlichen Stammtische bieten eine gute Chance unseren Verein und überzeugte junge Europäerinnen und Europäer kennenzulernen. Bei kühlen Getränken und anregenden Gesprächen ist jede und jeder willkommen. Wir freuen uns über Anmeldungen an office@jef-steiermark.at oder schreibe uns auf Instagram (@jef_steiermark). \nDieses Projekt wird vom Land Steiermark und im Rahmen von Erasmus+ finanziell unterstützt. \n \n \n 
URL:https://jef-steiermark.at/event/european-monday-0326/
LOCATION:eleven – Café-Bar-Restaurant\, Kaiserfeldgasse 13\, Graz\, 8010
ATTACH;FMTTYPE=image/png:https://jef-steiermark.at/wp-content/uploads/2024/05/20240506_EM_Querformat.png
END:VEVENT
BEGIN:VEVENT
DTSTART;TZID=Europe/Berlin:20260306T173000
DTEND;TZID=Europe/Berlin:20260306T190000
DTSTAMP:20260422T212150
CREATED:20260214T120924Z
LAST-MODIFIED:20260214T121117Z
UID:6078-1772818200-1772823600@jef-steiermark.at
SUMMARY:Landeskongress der Europäischen Föderalistischen Bewegung (EFB) - Steiermark
DESCRIPTION:Einladung zum EFB Landeskongress  🇪🇺 \nDie Europäische Föderalistische Bewegung Steiermark (EFB) ist der Alumi-Verein der JEF. \nDer Vorstand lädt alle Mitglieder herzlich zum ordentlichen Landeskongress mit Neuwahl des Landesvorstands ein. Alle JEF Mitglieder vom 18. Geburtstag bis zur Vollendung des 30. Lebensjahrs sind automatisch auch ordentliche Mitglieder der EFB Steiermark und damit stimmberechtigt. Auch alle weiteren JEF Mitglieder sind willkommen. \n🗓   Freitag\, 6. März\n🕠 17:30 Uhr\n📍 Nikolaiplatz 4\, 8020 Graz\n🥂 Ausklang im Anschluss \nFür den Vorstand kandidieren erfahrene Freiwillige aus der JEF. 🤍💚 \nWeitere Informationen sind in der offiziellen Einladung zu finden. Bei Rückfragen stehe ich euch zur Verfügung. 📲 \nMarkus Seunig\nBundesvorsitzender JEF in 🇦🇹\n& Landesvorsitzender-Stv. EFB
URL:https://jef-steiermark.at/event/landeskongress-efb-steiermark-2026/
LOCATION:Plenarsaal EFSZ\, Nikolaiplatz 4\, Erdgeschoss\, Graz\, 8020
ATTACH;FMTTYPE=image/jpeg:https://jef-steiermark.at/wp-content/uploads/2023/12/IMG_0205-scaled.jpg
END:VEVENT
BEGIN:VEVENT
DTSTART;TZID=Europe/Berlin:20260313T190000
DTEND;TZID=Europe/Berlin:20260313T213000
DTSTAMP:20260422T212150
CREATED:20260106T170354Z
LAST-MODIFIED:20260106T215528Z
UID:6001-1773428400-1773437400@jef-steiermark.at
SUMMARY:Griechischer Abend
DESCRIPTION:Einladung zum Griechischen Abend \nWir laden unsere Mitglieder herzlich zu einem Griechischen Abend in unser Büro in der Maygasse 24\, 8010 Graz\, 2. Stock ein und freuen uns\, Dimitris\, International Officer der JEF Griechenland\, als Gast begrüßen zu dürfen. Im Mittelpunkt des Abends stehen griechische Politik\, Kultur und Kulinarik. \nIm Rahmen eines moderierten Gesprächs werden wir gemeinsam mit Dimitris über die Eurokrise\, die politische Entwicklung Griechenlands seit dieser Zeit sowie über die Rolle Griechenlands innerhalb der Europäischen Union diskutieren. Dabei bietet sich die Gelegenheit\, Einblicke aus erster Hand zu gewinnen und Fragen zu stellen. Im Anschluss an die Diskussion laden wir alle Anwesenden ein\, den Abend in entspannter Atmosphäre ausklingen zu lassen – bei griechischen Köstlichkeiten\, darunter Fingerfood und griechischer Wein. \nDie limitierten Plätze werden nach Anmeldung via Online-Formular auf Basis von FCFS vergeben. Eine Teilnahme ist nur nach Bestätigung durch die JEF Steiermark möglich. Bei Rückfragen wende dich an Markus (markus.seunig@jef-steiermark.at). Wir freuen uns auf einen spannenden\, informativen und genussvollen Abend mit euch! \nHinweis: Die Veranstaltung findet in englischer Sprache statt. \nUnsere Jugendarbeit wird vom Land Steiermark finanziell unterstützt. \n——————————————————————————- \n\nInvitation to a Greek Evening \nWe warmly invite our members to a Greek Evening at our office at Maygasse 24\, 8010 Graz\, 2nd floor and are pleased to welcome Dimitris\, International Officer of JEF Greece\, as our guest. The evening will focus on Greek politics\, culture\, and cuisine. \nAs part of a moderated discussion\, we will talk with Dimitris about the Eurozone crisis\, the political development of Greece since then\, and Greece’s role within the European Union. This will be an opportunity to gain first-hand insights and to ask questions. Following the discussion\, we invite all participants to round off the evening in a relaxed atmosphere with Greek delicacies\, including finger food and Greek wine. \nPlaces are limited and will be allocated on a first come\, first served basis upon registration via an Online-Form (tba). Participation is only possible after confirmation by JEF Styria. If you have any questions\, please contact Markus (markus.seunig@jef-steiermark.at). We look forward to an exciting\, informative\, and enjoyable evening with you! \nNote: The event will be held in English. \nOur youth work is supported by the Province of Styria. \n 
URL:https://jef-steiermark.at/event/griechischer-abend/
LOCATION:JEF Steiermark Büro\, Maygasse 24\, Graz\, Österreich
ATTACH;FMTTYPE=image/jpeg:https://jef-steiermark.at/wp-content/uploads/2026/01/parthenon-4396367_1920.jpg
END:VEVENT
END:VCALENDAR